Package: RankProd Version: 3.33.0 Command: rm -rf RankProd.buildbin-libdir && mkdir RankProd.buildbin-libdir && /Users/biocbuild/BBS/utils/build-universal.sh RankProd_3.33.0.tar.gz /Library/Frameworks/R.framework/Resources/bin/R RankProd.buildbin-libdir StartedAt: 2025-02-09 22:26:31 -0500 (Sun, 09 Feb 2025) EndedAt: 2025-02-09 22:26:34 -0500 (Sun, 09 Feb 2025) EllapsedTime: 3.0 seconds RetCode: 0 Status: OK PackageFile: RankProd_3.33.0.tgz PackageFileSize: 877.2 KiB