Package: RankProd Version: 3.33.0 Command: /Library/Frameworks/R.framework/Resources/bin/R CMD check --install=check:RankProd.install-out.txt --library=/Library/Frameworks/R.framework/Resources/library --no-vignettes --timings RankProd_3.33.0.tar.gz StartedAt: 2025-02-03 21:27:33 -0500 (Mon, 03 Feb 2025) EndedAt: 2025-02-03 21:27:51 -0500 (Mon, 03 Feb 2025) EllapsedTime: 17.2 seconds RetCode: 0 Status: OK CheckDir: RankProd.Rcheck Warnings: 0