Package: RankProd Version: 3.33.0 Command: rm -rf RankProd.buildbin-libdir && mkdir RankProd.buildbin-libdir && /Users/biocbuild/BBS/utils/build-universal.sh RankProd_3.33.0.tar.gz /Library/Frameworks/R.framework/Resources/bin/R RankProd.buildbin-libdir StartedAt: 2025-02-10 01:10:24 -0500 (Mon, 10 Feb 2025) EndedAt: 2025-02-10 01:10:33 -0500 (Mon, 10 Feb 2025) EllapsedTime: 9.3 seconds RetCode: 0 Status: OK PackageFile: RankProd_3.33.0.tgz PackageFileSize: 876.2 KiB