Package: RankProd Version: 3.33.0 Command: /Library/Frameworks/R.framework/Resources/bin/R CMD build --keep-empty-dirs --no-resave-data RankProd StartedAt: 2025-02-03 18:02:12 -0500 (Mon, 03 Feb 2025) EndedAt: 2025-02-03 18:02:31 -0500 (Mon, 03 Feb 2025) EllapsedTime: 18.4 seconds RetCode: 0 Status: OK PackageFile: RankProd_3.33.0.tar.gz PackageFileSize: 776.7 KiB