Package: RankProd Version: 3.33.0 Command: rm -rf RankProd.buildbin-libdir && mkdir RankProd.buildbin-libdir && E:\biocbuild\bbs-3.21-bioc\R\bin\R.exe CMD INSTALL --build --library=RankProd.buildbin-libdir RankProd_3.33.0.tar.gz StartedAt: 2025-02-04 08:41:33 -0500 (Tue, 04 Feb 2025) EndedAt: 2025-02-04 08:41:47 -0500 (Tue, 04 Feb 2025) EllapsedTime: 14.0 seconds RetCode: 0 Status: OK PackageFile: RankProd_3.33.0.zip PackageFileSize: 754 KiB