Package: RankProd Version: 3.33.0 Command: chmod a+r RankProd -R && E:\biocbuild\bbs-3.21-bioc\R\bin\R.exe CMD build --keep-empty-dirs --no-resave-data RankProd StartedAt: 2025-02-09 21:00:07 -0500 (Sun, 09 Feb 2025) EndedAt: 2025-02-09 21:00:26 -0500 (Sun, 09 Feb 2025) EllapsedTime: 18.7 seconds RetCode: 0 Status: OK PackageFile: RankProd_3.33.0.tar.gz PackageFileSize: 653.6 KiB