Package: RankProd Version: 3.33.0 Command: E:\biocbuild\bbs-3.21-bioc\R\bin\R.exe CMD check --no-multiarch --install=check:RankProd.install-out.txt --library=E:\biocbuild\bbs-3.21-bioc\R\library --no-vignettes --timings RankProd_3.33.0.tar.gz StartedAt: 2025-02-04 04:55:25 -0500 (Tue, 04 Feb 2025) EndedAt: 2025-02-04 04:56:22 -0500 (Tue, 04 Feb 2025) EllapsedTime: 56.7 seconds RetCode: 0 Status: OK CheckDir: RankProd.Rcheck Warnings: 0