Package: RareVariantVis Version: 2.35.0 Command: /home/biocbuild/R/R/bin/R CMD build --keep-empty-dirs --no-resave-data RareVariantVis StartedAt: 2025-01-29 01:30:43 -0000 (Wed, 29 Jan 2025) EndedAt: 2025-01-29 01:31:52 -0000 (Wed, 29 Jan 2025) EllapsedTime: 69.1 seconds RetCode: 0 Status: OK PackageFile: RareVariantVis_2.35.0.tar.gz PackageFileSize: 2.81 MiB