Package: RareVariantVis Version: 2.35.0 Command: /home/biocbuild/R/R/bin/R CMD INSTALL RareVariantVis StartedAt: 2025-01-29 19:56:20 -0000 (Wed, 29 Jan 2025) EndedAt: 2025-01-29 19:57:25 -0000 (Wed, 29 Jan 2025) EllapsedTime: 65.3 seconds RetCode: 0 Status: OK