Package: RareVariantVis Version: 2.35.0 Command: /Library/Frameworks/R.framework/Resources/bin/R CMD check --install=check:RareVariantVis.install-out.txt --library=/Library/Frameworks/R.framework/Resources/library --no-vignettes --timings RareVariantVis_2.35.0.tar.gz StartedAt: 2025-02-09 22:58:04 -0500 (Sun, 09 Feb 2025) EndedAt: 2025-02-09 23:04:20 -0500 (Sun, 09 Feb 2025) EllapsedTime: 376.0 seconds RetCode: 0 Status: OK CheckDir: RareVariantVis.Rcheck Warnings: 0