Package: RareVariantVis Version: 2.35.0 Command: /Library/Frameworks/R.framework/Resources/bin/R CMD INSTALL RareVariantVis StartedAt: 2025-02-09 15:22:42 -0500 (Sun, 09 Feb 2025) EndedAt: 2025-02-09 15:23:45 -0500 (Sun, 09 Feb 2025) EllapsedTime: 63.3 seconds RetCode: 0 Status: OK