Package: RareVariantVis Version: 2.35.0 Command: /home/biocbuild/bbs-3.21-bioc/R/bin/R CMD build --keep-empty-dirs --no-resave-data RareVariantVis StartedAt: 2025-02-09 18:49:09 -0500 (Sun, 09 Feb 2025) EndedAt: 2025-02-09 18:50:00 -0500 (Sun, 09 Feb 2025) EllapsedTime: 51.1 seconds RetCode: 0 Status: OK PackageFile: RareVariantVis_2.35.0.tar.gz PackageFileSize: 2.756 MiB