Package: RareVariantVis Version: 2.35.0 Command: /home/biocbuild/bbs-3.21-bioc/R/bin/R CMD check --install=check:RareVariantVis.install-out.txt --library=/home/biocbuild/bbs-3.21-bioc/R/site-library --timings RareVariantVis_2.35.0.tar.gz StartedAt: 2025-02-10 01:41:23 -0500 (Mon, 10 Feb 2025) EndedAt: 2025-02-10 01:46:46 -0500 (Mon, 10 Feb 2025) EllapsedTime: 322.8 seconds RetCode: 0 Status: OK CheckDir: RareVariantVis.Rcheck Warnings: 0