Package: RareVariantVis Version: 2.35.0 Command: chmod a+r RareVariantVis -R && E:\biocbuild\bbs-3.21-bioc\R\bin\R.exe CMD build --keep-empty-dirs --no-resave-data RareVariantVis StartedAt: 2025-02-09 21:00:20 -0500 (Sun, 09 Feb 2025) EndedAt: 2025-02-09 21:01:23 -0500 (Sun, 09 Feb 2025) EllapsedTime: 62.6 seconds RetCode: 0 Status: OK PackageFile: RareVariantVis_2.35.0.tar.gz PackageFileSize: 2.752 MiB