Package: RareVariantVis Version: 2.35.0 Command: E:\biocbuild\bbs-3.21-bioc\R\bin\R.exe CMD check --no-multiarch --install=check:RareVariantVis.install-out.txt --library=E:\biocbuild\bbs-3.21-bioc\R\library --no-vignettes --timings RareVariantVis_2.35.0.tar.gz StartedAt: 2025-02-13 04:38:14 -0500 (Thu, 13 Feb 2025) EndedAt: 2025-02-13 04:44:40 -0500 (Thu, 13 Feb 2025) EllapsedTime: 385.6 seconds RetCode: 0 Status: OK CheckDir: RareVariantVis.Rcheck Warnings: 0