Package: RareVariantVis Version: 2.35.0 Command: E:\biocbuild\bbs-3.21-bioc\R\bin\R.exe CMD INSTALL RareVariantVis StartedAt: 2025-02-12 16:32:04 -0500 (Wed, 12 Feb 2025) EndedAt: 2025-02-12 16:33:28 -0500 (Wed, 12 Feb 2025) EllapsedTime: 84.2 seconds RetCode: 0 Status: OK