Package: Rarr Version: 1.7.1 Command: rm -rf Rarr.buildbin-libdir && mkdir Rarr.buildbin-libdir && /Users/biocbuild/BBS/utils/build-universal.sh Rarr_1.7.1.tar.gz /Library/Frameworks/R.framework/Resources/bin/R Rarr.buildbin-libdir StartedAt: 2025-02-09 22:26:34 -0500 (Sun, 09 Feb 2025) EndedAt: 2025-02-09 22:26:59 -0500 (Sun, 09 Feb 2025) EllapsedTime: 24.6 seconds RetCode: 0 Status: OK PackageFile: Rarr_1.7.1.tgz PackageFileSize: 1.425 MiB