Package: Rarr Version: 1.7.1 Command: /Library/Frameworks/R.framework/Resources/bin/R CMD build --keep-empty-dirs --no-resave-data Rarr StartedAt: 2025-02-04 17:20:28 -0500 (Tue, 04 Feb 2025) EndedAt: 2025-02-04 17:21:03 -0500 (Tue, 04 Feb 2025) EllapsedTime: 35.4 seconds RetCode: 0 Status: OK PackageFile: Rarr_1.7.1.tar.gz PackageFileSize: 1.431 MiB