Package: Rarr Version: 1.7.1 Command: /Library/Frameworks/R.framework/Resources/bin/R CMD check --install=check:Rarr.install-out.txt --library=/Library/Frameworks/R.framework/Resources/library --no-vignettes --timings Rarr_1.7.1.tar.gz StartedAt: 2025-02-09 20:51:24 -0500 (Sun, 09 Feb 2025) EndedAt: 2025-02-09 20:52:20 -0500 (Sun, 09 Feb 2025) EllapsedTime: 55.7 seconds RetCode: 0 Status: OK CheckDir: Rarr.Rcheck Warnings: 0