Package: Rarr Version: 1.7.1 Command: /Library/Frameworks/R.framework/Resources/bin/R CMD INSTALL Rarr StartedAt: 2025-02-04 15:12:56 -0500 (Tue, 04 Feb 2025) EndedAt: 2025-02-04 15:13:16 -0500 (Tue, 04 Feb 2025) EllapsedTime: 19.5 seconds RetCode: 0 Status: OK