Package: Rarr Version: 1.7.1 Command: /home/biocbuild/R/R/bin/R CMD build --keep-empty-dirs --no-resave-data Rarr StartedAt: 2025-01-29 01:30:46 -0000 (Wed, 29 Jan 2025) EndedAt: 2025-01-29 01:33:13 -0000 (Wed, 29 Jan 2025) EllapsedTime: 147.1 seconds RetCode: 0 Status: OK PackageFile: Rarr_1.7.1.tar.gz PackageFileSize: 1.145 MiB