Package: Rarr Version: 1.7.1 Command: /home/biocbuild/R/R/bin/R CMD check --install=check:Rarr.install-out.txt --library=/home/biocbuild/R/R/site-library --no-vignettes --timings Rarr_1.7.1.tar.gz StartedAt: 2025-01-28 14:19:01 -0000 (Tue, 28 Jan 2025) EndedAt: 2025-01-28 14:21:43 -0000 (Tue, 28 Jan 2025) EllapsedTime: 162.3 seconds RetCode: 0 Status: OK CheckDir: Rarr.Rcheck Warnings: 0