Package: Rarr Version: 1.7.1 Command: rm -rf Rarr.buildbin-libdir && mkdir Rarr.buildbin-libdir && /Users/biocbuild/BBS/utils/build-universal.sh Rarr_1.7.1.tar.gz /Library/Frameworks/R.framework/Resources/bin/R Rarr.buildbin-libdir StartedAt: 2025-02-05 00:56:28 -0500 (Wed, 05 Feb 2025) EndedAt: 2025-02-05 00:58:05 -0500 (Wed, 05 Feb 2025) EllapsedTime: 97.4 seconds RetCode: 0 Status: OK PackageFile: Rarr_1.7.1.tgz PackageFileSize: 1.561 MiB