Package: Rarr Version: 1.7.1 Command: /Library/Frameworks/R.framework/Resources/bin/R CMD INSTALL Rarr StartedAt: 2025-02-04 15:15:19 -0500 (Tue, 04 Feb 2025) EndedAt: 2025-02-04 15:16:46 -0500 (Tue, 04 Feb 2025) EllapsedTime: 87.8 seconds RetCode: 0 Status: OK