Package: Rarr Version: 1.7.1 Command: /home/biocbuild/bbs-3.21-bioc/R/bin/R CMD build --keep-empty-dirs --no-resave-data Rarr StartedAt: 2025-02-09 18:49:11 -0500 (Sun, 09 Feb 2025) EndedAt: 2025-02-09 18:50:37 -0500 (Sun, 09 Feb 2025) EllapsedTime: 86.1 seconds RetCode: 0 Status: OK PackageFile: Rarr_1.7.1.tar.gz PackageFileSize: 1.377 MiB