Package: Rarr Version: 1.7.1 Command: /home/biocbuild/bbs-3.21-bioc/R/bin/R CMD check --install=check:Rarr.install-out.txt --library=/home/biocbuild/bbs-3.21-bioc/R/site-library --timings Rarr_1.7.1.tar.gz StartedAt: 2025-02-05 01:48:50 -0500 (Wed, 05 Feb 2025) EndedAt: 2025-02-05 01:51:13 -0500 (Wed, 05 Feb 2025) EllapsedTime: 143.2 seconds RetCode: 0 Status: OK CheckDir: Rarr.Rcheck Warnings: 0