Package: Rarr Version: 1.7.1 Command: rm -rf Rarr.buildbin-libdir && mkdir Rarr.buildbin-libdir && E:\biocbuild\bbs-3.21-bioc\R\bin\R.exe CMD INSTALL --build --library=Rarr.buildbin-libdir Rarr_1.7.1.tar.gz StartedAt: 2025-02-05 08:40:14 -0500 (Wed, 05 Feb 2025) EndedAt: 2025-02-05 08:42:33 -0500 (Wed, 05 Feb 2025) EllapsedTime: 139.2 seconds RetCode: 0 Status: OK PackageFile: Rarr_1.7.1.zip PackageFileSize: 1.579 MiB