Package: Rarr Version: 1.7.1 Command: chmod a+r Rarr -R && E:\biocbuild\bbs-3.21-bioc\R\bin\R.exe CMD build --keep-empty-dirs --no-resave-data Rarr StartedAt: 2025-02-04 21:03:17 -0500 (Tue, 04 Feb 2025) EndedAt: 2025-02-04 21:07:39 -0500 (Tue, 04 Feb 2025) EllapsedTime: 262.5 seconds RetCode: 0 Status: OK PackageFile: Rarr_1.7.1.tar.gz PackageFileSize: 1.633 MiB