Package: Rarr Version: 1.7.1 Command: E:\biocbuild\bbs-3.21-bioc\R\bin\R.exe CMD check --no-multiarch --install=check:Rarr.install-out.txt --library=E:\biocbuild\bbs-3.21-bioc\R\library --no-vignettes --timings Rarr_1.7.1.tar.gz StartedAt: 2025-02-10 04:29:15 -0500 (Mon, 10 Feb 2025) EndedAt: 2025-02-10 04:32:17 -0500 (Mon, 10 Feb 2025) EllapsedTime: 181.8 seconds RetCode: 0 Status: OK CheckDir: Rarr.Rcheck Warnings: 0