Package: Rarr Version: 1.7.1 Command: E:\biocbuild\bbs-3.21-bioc\R\bin\R.exe CMD INSTALL Rarr StartedAt: 2025-02-09 15:53:42 -0500 (Sun, 09 Feb 2025) EndedAt: 2025-02-09 15:56:32 -0500 (Sun, 09 Feb 2025) EllapsedTime: 170.3 seconds RetCode: 0 Status: OK