Package: Rbec Version: 1.15.0 Command: /Library/Frameworks/R.framework/Resources/bin/R CMD build --keep-empty-dirs --no-resave-data Rbec StartedAt: 2025-02-09 17:20:40 -0500 (Sun, 09 Feb 2025) EndedAt: 2025-02-09 17:20:43 -0500 (Sun, 09 Feb 2025) EllapsedTime: 3.0 seconds RetCode: 1 Status: ERROR PackageFile: None PackageFileSize: NA