Package: Rbec Version: 1.15.0 Command: /Library/Frameworks/R.framework/Resources/bin/R CMD INSTALL Rbec StartedAt: 2025-02-04 15:12:56 -0500 (Tue, 04 Feb 2025) EndedAt: 2025-02-04 15:12:59 -0500 (Tue, 04 Feb 2025) EllapsedTime: 2.8 seconds RetCode: 1 Status: ERROR