Package: Rbec Version: 1.15.0 Command: rm -rf Rbec.buildbin-libdir && mkdir Rbec.buildbin-libdir && /Users/biocbuild/BBS/utils/build-universal.sh Rbec_1.15.0.tar.gz /Library/Frameworks/R.framework/Resources/bin/R Rbec.buildbin-libdir StartedAt: 2025-02-05 00:56:32 -0500 (Wed, 05 Feb 2025) EndedAt: 2025-02-05 00:57:27 -0500 (Wed, 05 Feb 2025) EllapsedTime: 54.6 seconds RetCode: 0 Status: OK PackageFile: Rbec_1.15.0.tgz PackageFileSize: 1.528 MiB