Package: Rbec Version: 1.15.0 Command: /Library/Frameworks/R.framework/Resources/bin/R CMD check --install=check:Rbec.install-out.txt --library=/Library/Frameworks/R.framework/Resources/library --no-vignettes --timings Rbec_1.15.0.tar.gz StartedAt: 2025-02-04 22:40:56 -0500 (Tue, 04 Feb 2025) EndedAt: 2025-02-04 22:45:19 -0500 (Tue, 04 Feb 2025) EllapsedTime: 262.8 seconds RetCode: 0 Status: OK CheckDir: Rbec.Rcheck Warnings: 0