Package: Rbec Version: 1.15.0 Command: rm -rf Rbec.buildbin-libdir && mkdir Rbec.buildbin-libdir && E:\biocbuild\bbs-3.21-bioc\R\bin\R.exe CMD INSTALL --build --library=Rbec.buildbin-libdir Rbec_1.15.0.tar.gz StartedAt: 2025-02-10 08:29:02 -0500 (Mon, 10 Feb 2025) EndedAt: 2025-02-10 08:29:48 -0500 (Mon, 10 Feb 2025) EllapsedTime: 46.3 seconds RetCode: 0 Status: OK PackageFile: Rbec_1.15.0.zip PackageFileSize: 1.836 MiB