Package: Rbec Version: 1.15.0 Command: chmod a+r Rbec -R && E:\biocbuild\bbs-3.21-bioc\R\bin\R.exe CMD build --keep-empty-dirs --no-resave-data Rbec StartedAt: 2025-02-09 21:01:48 -0500 (Sun, 09 Feb 2025) EndedAt: 2025-02-09 21:03:21 -0500 (Sun, 09 Feb 2025) EllapsedTime: 93.0 seconds RetCode: 0 Status: OK PackageFile: Rbec_1.15.0.tar.gz PackageFileSize: 1.467 MiB