Package: Rbec Version: 1.15.0 Command: E:\biocbuild\bbs-3.21-bioc\R\bin\R.exe CMD check --no-multiarch --install=check:Rbec.install-out.txt --library=E:\biocbuild\bbs-3.21-bioc\R\library --no-vignettes --timings Rbec_1.15.0.tar.gz StartedAt: 2025-02-10 04:30:01 -0500 (Mon, 10 Feb 2025) EndedAt: 2025-02-10 04:35:05 -0500 (Mon, 10 Feb 2025) EllapsedTime: 304.2 seconds RetCode: 0 Status: OK CheckDir: Rbec.Rcheck Warnings: 0