Package: Rbowtie Version: 1.47.0 Command: rm -rf Rbowtie.buildbin-libdir && mkdir Rbowtie.buildbin-libdir && /Users/biocbuild/BBS/utils/build-universal.sh Rbowtie_1.47.0.tar.gz /Library/Frameworks/R.framework/Resources/bin/R Rbowtie.buildbin-libdir StartedAt: 2025-02-12 22:31:48 -0500 (Wed, 12 Feb 2025) EndedAt: 2025-02-12 22:32:16 -0500 (Wed, 12 Feb 2025) EllapsedTime: 27.7 seconds RetCode: 0 Status: OK PackageFile: Rbowtie_1.47.0.tgz PackageFileSize: 1.184 MiB