Package: Rbowtie Version: 1.47.0 Command: /Library/Frameworks/R.framework/Resources/bin/R CMD INSTALL Rbowtie StartedAt: 2025-02-09 15:06:09 -0500 (Sun, 09 Feb 2025) EndedAt: 2025-02-09 15:07:40 -0500 (Sun, 09 Feb 2025) EllapsedTime: 91.0 seconds RetCode: 0 Status: OK