Package: Rbowtie Version: 1.47.0 Command: /home/biocbuild/bbs-3.21-bioc/R/bin/R CMD check --install=check:Rbowtie.install-out.txt --library=/home/biocbuild/bbs-3.21-bioc/R/site-library --timings Rbowtie_1.47.0.tar.gz StartedAt: 2025-02-13 01:43:49 -0500 (Thu, 13 Feb 2025) EndedAt: 2025-02-13 01:44:13 -0500 (Thu, 13 Feb 2025) EllapsedTime: 24.0 seconds RetCode: 0 Status: OK CheckDir: Rbowtie.Rcheck Warnings: 0