Package: Rbowtie Version: 1.47.0 Command: /home/biocbuild/bbs-3.21-bioc/R/bin/R CMD INSTALL Rbowtie StartedAt: 2025-02-12 15:05:53 -0500 (Wed, 12 Feb 2025) EndedAt: 2025-02-12 15:07:47 -0500 (Wed, 12 Feb 2025) EllapsedTime: 114.3 seconds RetCode: 0 Status: OK