Package: Rbowtie2 Version: 2.13.3 Maintainer: Zheng Wei MaintainerEmail: wzweizheng at qq.com git_url: https://git.bioconductor.org/packages/Rbowtie2 git_branch: devel git_last_commit: c5f03e0 git_last_commit_date: 2025-01-19 12:39:55 -0500 (Sun, 19 Jan 2025)