Package: Rbowtie2 Version: 2.13.3 Command: rm -rf Rbowtie2.buildbin-libdir && mkdir Rbowtie2.buildbin-libdir && /Users/biocbuild/BBS/utils/build-universal.sh Rbowtie2_2.13.3.tar.gz /Library/Frameworks/R.framework/Resources/bin/R Rbowtie2.buildbin-libdir StartedAt: 2025-02-09 22:26:41 -0500 (Sun, 09 Feb 2025) EndedAt: 2025-02-09 22:27:55 -0500 (Sun, 09 Feb 2025) EllapsedTime: 73.5 seconds RetCode: 0 Status: OK PackageFile: Rbowtie2_2.13.3.tgz PackageFileSize: 1.844 MiB