Package: Rbowtie2 Version: 2.13.3 Command: /Library/Frameworks/R.framework/Resources/bin/R CMD check --install=check:Rbowtie2.install-out.txt --library=/Library/Frameworks/R.framework/Resources/library --no-vignettes --timings Rbowtie2_2.13.3.tar.gz StartedAt: 2025-02-12 20:56:55 -0500 (Wed, 12 Feb 2025) EndedAt: 2025-02-12 20:57:11 -0500 (Wed, 12 Feb 2025) EllapsedTime: 15.2 seconds RetCode: 0 Status: OK CheckDir: Rbowtie2.Rcheck Warnings: 0