Package: Rbowtie2 Version: 2.13.3 Command: /home/biocbuild/R/R/bin/R CMD check --install=check:Rbowtie2.install-out.txt --library=/home/biocbuild/R/R/site-library --no-vignettes --timings Rbowtie2_2.13.3.tar.gz StartedAt: 2025-01-28 14:20:29 -0000 (Tue, 28 Jan 2025) EndedAt: 2025-01-28 14:21:04 -0000 (Tue, 28 Jan 2025) EllapsedTime: 35.1 seconds RetCode: 0 Status: WARNINGS CheckDir: Rbowtie2.Rcheck Warnings: 1