Package: Rbowtie2 Version: 2.13.3 Command: rm -rf Rbowtie2.buildbin-libdir && mkdir Rbowtie2.buildbin-libdir && /Users/biocbuild/BBS/utils/build-universal.sh Rbowtie2_2.13.3.tar.gz /Library/Frameworks/R.framework/Resources/bin/R Rbowtie2.buildbin-libdir StartedAt: 2025-02-10 01:10:40 -0500 (Mon, 10 Feb 2025) EndedAt: 2025-02-10 01:15:11 -0500 (Mon, 10 Feb 2025) EllapsedTime: 271.2 seconds RetCode: 0 Status: OK PackageFile: Rbowtie2_2.13.3.tgz PackageFileSize: 2.032 MiB