Package: Rbowtie2 Version: 2.13.3 Command: /Library/Frameworks/R.framework/Resources/bin/R CMD check --install=check:Rbowtie2.install-out.txt --library=/Library/Frameworks/R.framework/Resources/library --no-vignettes --timings Rbowtie2_2.13.3.tar.gz StartedAt: 2025-02-09 22:59:24 -0500 (Sun, 09 Feb 2025) EndedAt: 2025-02-09 23:00:08 -0500 (Sun, 09 Feb 2025) EllapsedTime: 44.4 seconds RetCode: 0 Status: OK CheckDir: Rbowtie2.Rcheck Warnings: 0