Package: Rbwa Version: 1.11.0 Command: /Library/Frameworks/R.framework/Resources/bin/R CMD build --keep-empty-dirs --no-resave-data Rbwa StartedAt: 2025-02-09 17:21:03 -0500 (Sun, 09 Feb 2025) EndedAt: 2025-02-09 17:21:11 -0500 (Sun, 09 Feb 2025) EllapsedTime: 8.1 seconds RetCode: 0 Status: OK PackageFile: Rbwa_1.11.0.tar.gz PackageFileSize: 651.3 KiB