Package: Rbwa Version: 1.11.0 Command: /Library/Frameworks/R.framework/Resources/bin/R CMD check --install=check:Rbwa.install-out.txt --library=/Library/Frameworks/R.framework/Resources/library --no-vignettes --timings Rbwa_1.11.0.tar.gz StartedAt: 2025-02-09 22:59:32 -0500 (Sun, 09 Feb 2025) EndedAt: 2025-02-09 23:00:04 -0500 (Sun, 09 Feb 2025) EllapsedTime: 32.7 seconds RetCode: 0 Status: WARNINGS CheckDir: Rbwa.Rcheck Warnings: 1