Package: Rbwa Version: 1.11.0 Command: /Library/Frameworks/R.framework/Resources/bin/R CMD INSTALL Rbwa StartedAt: 2025-02-12 15:04:20 -0500 (Wed, 12 Feb 2025) EndedAt: 2025-02-12 15:05:07 -0500 (Wed, 12 Feb 2025) EllapsedTime: 46.8 seconds RetCode: 0 Status: OK